View In:
ArcGIS JavaScript
ArcGIS Online Map Viewer
ArcGIS Earth
ArcMap
View Footprint In:
ArcGIS Online Map Viewer
Service Description: KansasFloods2019/UpperNeo_20190510_S2L2A
Name: KansasFloods2019/UpperNeo_20190510_S2L2A
Description:
Single Fused Map Cache: true
Tile Info:
- Height: 256
- Width: 256
- DPI: 96
-
Levels of Detail: 19
-
Level ID: 0
[ Start Tile, End Tile ]
- Resolution: 78109.09330483258
- Scale: 2.952154707584223E8
-
Level ID: 1
[ Start Tile, End Tile ]
- Resolution: 39054.54665241629
- Scale: 1.4760773537921116E8
-
Level ID: 2
[ Start Tile, End Tile ]
- Resolution: 19527.273326208146
- Scale: 7.380386768960558E7
-
Level ID: 3
[ Start Tile, End Tile ]
- Resolution: 9763.636663104073
- Scale: 3.690193384480279E7
-
Level ID: 4
[ Start Tile, End Tile ]
- Resolution: 4881.818331552036
- Scale: 1.8450966922401395E7
-
Level ID: 5
[ Start Tile, End Tile ]
- Resolution: 2440.909165776018
- Scale: 9225483.461200697
-
Level ID: 6
[ Start Tile, End Tile ]
- Resolution: 1220.454582888009
- Scale: 4612741.730600349
-
Level ID: 7
[ Start Tile, End Tile ]
- Resolution: 610.2272914440045
- Scale: 2306370.8653001743
-
Level ID: 8
[ Start Tile, End Tile ]
- Resolution: 305.1136457220023
- Scale: 1153185.4326500872
-
Level ID: 9
[ Start Tile, End Tile ]
- Resolution: 152.55682286100114
- Scale: 576592.7163250436
-
Level ID: 10
[ Start Tile, End Tile ]
- Resolution: 76.27841143050057
- Scale: 288296.3581625218
-
Level ID: 11
[ Start Tile, End Tile ]
- Resolution: 38.139205715250284
- Scale: 144148.1790812609
-
Level ID: 12
[ Start Tile, End Tile ]
- Resolution: 19.069602857625142
- Scale: 72074.08954063045
-
Level ID: 13
[ Start Tile, End Tile ]
- Resolution: 9.534801428812571
- Scale: 36037.044770315224
-
Level ID: 14
[ Start Tile, End Tile ]
- Resolution: 4.7674007144062855
- Scale: 18018.522385157612
-
Level ID: 15
[ Start Tile, End Tile ]
- Resolution: 2.3837003572031428
- Scale: 9009.261192578806
-
Level ID: 16
[ Start Tile, End Tile ]
- Resolution: 1.1918501786015714
- Scale: 4504.630596289403
-
Level ID: 17
[ Start Tile, End Tile ]
- Resolution: 0.5959250893007857
- Scale: 2252.3152981447015
-
Level ID: 18
[ Start Tile, End Tile ]
- Resolution: 0.29796254465039285
- Scale: 1126.1576490723508
- Format: PNG
- Compression Quality: 0.0
- LERC Error: NaN
- Origin: X: -9497963.94301857
Y: 9997963.94301857
- Spatial Reference: 32614
(32614)
Storage Info:
- Storage Format: esriMapCacheStorageModeCompactV2
- Packet Size: 128
Extent:
XMin: 699960
YMin: 4190220
XMax: 809760
YMax: 4300020
Spatial Reference: 32614
(32614)
Initial Extent:
XMin: 699960
YMin: 4190220
XMax: 809760
YMax: 4300020
Spatial Reference: 32614
(32614)
Full Extent:
XMin: 699960
YMin: 4190220
XMax: 809760
YMax: 4300020
Spatial Reference: 32614
(32614)
Pixel Size X: 10.0
Pixel Size Y: 10.0
Band Count: 12
Pixel Type: U16
RasterFunction Infos: {"rasterFunctionInfos": [{
"name": "None",
"description": "",
"help": ""
}]}
Mensuration Capabilities: Basic
Has Histograms: true
Has Colormap: false
Has Multi Dimensions : false
Rendering Rule:
Min Scale: 2306370.8653001743
Max Scale: 2252.3152981447015
Min LOD: 7
Max LOD: 17
Copyright Text:
Service Data Type: esriImageServiceDataTypeGeneric
Min Values: 1029, 0, 879, 786, 1036, 773, 933, 747, 807, 1051, 952, 998
Max Values: 14258, 17248, 18160, 17504, 13218, 12994, 12895, 16768, 12848, 16648, 15589, 16105
Mean Values: 2950.5687939348, 2864.2432923994, 2978.3530453938, 2891.3521720398, 3339.5781711735, 4038.3734972983, 4215.4578582362, 4327.0811864753, 4363.5800020582, 5028.0085541533, 3901.8278033257, 3134.1102461834
Standard Deviation Values: 2324.7749701599, 2186.1053641486, 2013.1552035334, 1987.5600662667, 2001.9891340853, 1844.133642302, 1799.177960175, 1841.93601744, 1755.0521038347, 2900.3985319723, 1547.0081794563, 1451.6331492723
Object ID Field:
Fields:
None
Default Mosaic Method: Center
Allowed Mosaic Methods:
SortField:
SortValue: null
Mosaic Operator: First
Default Compression Quality: 75
Default Resampling Method: Bilinear
Max Record Count: null
Max Image Height: 4100
Max Image Width: 15000
Max Download Image Count: null
Max Mosaic Image Count: null
Allow Raster Function: true
Allow Copy: true
Allow Analysis: true
Allow Compute TiePoints: false
Supports Statistics: false
Supports Advanced Queries: false
Use StandardizedQueries: true
Raster Type Infos:
Name: Raster Dataset
Description: Supports all ArcGIS Raster Datasets
Help:
Has Raster Attribute Table: false
Edit Fields Info: null
Ownership Based AccessControl For Rasters: null
Child Resources:
Info
Histograms
Statistics
Key Properties
Legend
Raster Function Infos
Supported Operations:
Export Image
Identify
Measure
Compute Histograms
Compute Statistics Histograms
Get Samples
Compute Class Statistics
Query Boundary
Compute Pixel Location
Compute Angles
Validate
Project