{
 "currentVersion": 10.91,
 "serviceDescription": "KansasFloods2019/UpperNeo_20190510_S2L2A",
 "name": "KansasFloods2019/UpperNeo_20190510_S2L2A",
 "description": "",
 "extent": {
  "xmin": 699960,
  "ymin": 4190220,
  "xmax": 809760,
  "ymax": 4300020,
  "spatialReference": {
   "wkid": 32614,
   "latestWkid": 32614
  }
 },
 "initialExtent": {
  "xmin": 699960,
  "ymin": 4190220,
  "xmax": 809760,
  "ymax": 4300020,
  "spatialReference": {
   "wkid": 32614,
   "latestWkid": 32614
  }
 },
 "fullExtent": {
  "xmin": 699960,
  "ymin": 4190220,
  "xmax": 809760,
  "ymax": 4300020,
  "spatialReference": {
   "wkid": 32614,
   "latestWkid": 32614
  }
 },
 "hasMultidimensions": false,
 "pixelSizeX": 10,
 "pixelSizeY": 10,
 "datasetFormat": "TIFF",
 "uncompressedSize": 2893449600,
 "blockWidth": 512,
 "blockHeight": 512,
 "compressionType": "LZW",
 "bandNames": [
  "B1",
  "B2",
  "B3",
  "B4",
  "B5",
  "B6",
  "B7",
  "B8",
  "B8A",
  "B9",
  "B11",
  "B12"
 ],
 "allowCopy": true,
 "allowAnalysis": true,
 "bandCount": 12,
 "noDataValue": 65535,
 "noDataValues": [
  65535,
  65535,
  65535,
  65535,
  65535,
  65535,
  65535,
  65535,
  65535,
  65535,
  65535,
  65535
 ],
 "pixelType": "U16",
 "minPixelSize": 0.5959250893007857,
 "maxPixelSize": 610.2272914440045,
 "copyrightText": "",
 "serviceDataType": "esriImageServiceDataTypeGeneric",
 "serviceSourceType": "esriImageServiceSourceTypeDataset",
 "minValues": [
  1029,
  0,
  879,
  786,
  1036,
  773,
  933,
  747,
  807,
  1051,
  952,
  998
 ],
 "maxValues": [
  14258,
  17248,
  18160,
  17504,
  13218,
  12994,
  12895,
  16768,
  12848,
  16648,
  15589,
  16105
 ],
 "meanValues": [
  2950.5687939348,
  2864.2432923994,
  2978.3530453938,
  2891.3521720398,
  3339.5781711735,
  4038.3734972983,
  4215.4578582362,
  4327.0811864753,
  4363.5800020582,
  5028.0085541533,
  3901.8278033257,
  3134.1102461834
 ],
 "stdvValues": [
  2324.7749701599,
  2186.1053641486,
  2013.1552035334,
  1987.5600662667,
  2001.9891340853,
  1844.133642302,
  1799.177960175,
  1841.93601744,
  1755.0521038347,
  2900.3985319723,
  1547.0081794563,
  1451.6331492723
 ],
 "objectIdField": "",
 "fields": [],
 "capabilities": "Image,Metadata,Mensuration",
 "defaultMosaicMethod": "Center",
 "allowedMosaicMethods": "",
 "sortField": "",
 "sortValue": null,
 "sortAscending": true,
 "mosaicOperator": "First",
 "defaultCompressionQuality": 75,
 "defaultResamplingMethod": "Bilinear",
 "maxImageHeight": 4100,
 "maxImageWidth": 15000,
 "singleFusedMapCache": true,
 "tileInfo": {
  "rows": 256,
  "cols": 256,
  "dpi": 96,
  "format": "PNG",
  "compressionQuality": 0,
  "origin": {
   "x": -9497963.94301857,
   "y": 9997963.94301857
  },
  "spatialReference": {
   "wkid": 32614,
   "latestWkid": 32614
  },
  "lods": [
   {
    "level": 0,
    "resolution": 78109.09330483258,
    "scale": 2.952154707584223E8
   },
   {
    "level": 1,
    "resolution": 39054.54665241629,
    "scale": 1.4760773537921116E8
   },
   {
    "level": 2,
    "resolution": 19527.273326208146,
    "scale": 7.380386768960558E7
   },
   {
    "level": 3,
    "resolution": 9763.636663104073,
    "scale": 3.690193384480279E7
   },
   {
    "level": 4,
    "resolution": 4881.818331552036,
    "scale": 1.8450966922401395E7
   },
   {
    "level": 5,
    "resolution": 2440.909165776018,
    "scale": 9225483.461200697
   },
   {
    "level": 6,
    "resolution": 1220.454582888009,
    "scale": 4612741.730600349
   },
   {
    "level": 7,
    "resolution": 610.2272914440045,
    "scale": 2306370.8653001743
   },
   {
    "level": 8,
    "resolution": 305.1136457220023,
    "scale": 1153185.4326500872
   },
   {
    "level": 9,
    "resolution": 152.55682286100114,
    "scale": 576592.7163250436
   },
   {
    "level": 10,
    "resolution": 76.27841143050057,
    "scale": 288296.3581625218
   },
   {
    "level": 11,
    "resolution": 38.139205715250284,
    "scale": 144148.1790812609
   },
   {
    "level": 12,
    "resolution": 19.069602857625142,
    "scale": 72074.08954063045
   },
   {
    "level": 13,
    "resolution": 9.534801428812571,
    "scale": 36037.044770315224
   },
   {
    "level": 14,
    "resolution": 4.7674007144062855,
    "scale": 18018.522385157612
   },
   {
    "level": 15,
    "resolution": 2.3837003572031428,
    "scale": 9009.261192578806
   },
   {
    "level": 16,
    "resolution": 1.1918501786015714,
    "scale": 4504.630596289403
   },
   {
    "level": 17,
    "resolution": 0.5959250893007857,
    "scale": 2252.3152981447015
   },
   {
    "level": 18,
    "resolution": 0.29796254465039285,
    "scale": 1126.1576490723508
   }
  ]
 },
 "storageInfo": {
  "storageFormat": "esriMapCacheStorageModeCompactV2",
  "packetSize": 128
 },
 "cacheType": "Map",
 "allowRasterFunction": true,
 "rasterFunctionInfos": [
  {
   "name": "None",
   "description": "",
   "help": ""
  }
 ],
 "rasterTypeInfos": [
  {
   "name": "Raster Dataset",
   "description": "Supports all ArcGIS Raster Datasets",
   "help": ""
  }
 ],
 "mensurationCapabilities": "Basic",
 "hasHistograms": true,
 "hasColormap": false,
 "hasRasterAttributeTable": false,
 "minScale": 2306370.8653001743,
 "maxScale": 2252.3152981447015,
 "minLOD": 7,
 "maxLOD": 17,
 "exportTilesAllowed": false,
 "supportsStatistics": false,
 "supportsAdvancedQueries": false,
 "editFieldsInfo": null,
 "ownershipBasedAccessControlForRasters": null,
 "allowComputeTiePoints": false,
 "useStandardizedQueries": true,
 "advancedQueryCapabilities": {
  "useStandardizedQueries": true,
  "supportsStatistics": false,
  "supportsOrderBy": false,
  "supportsDistinct": false,
  "supportsPagination": false
 },
 "spatialReference": {
  "wkid": 32614,
  "latestWkid": 32614
 }
}
