{ "currentVersion": 10.91, "serviceDescription": "
National Land Cover Database 2011 (NLCD 2011) is the most recent national land cover product created by the Multi-Resolution Land Characteristics (MRLC) Consortium. NLCD 2011 provides - for the first time - the capability to assess wall-to-wall, spatially explicit, national land cover changes and trends across the United States from 2001 to 2011. As with two previous NLCD land cover products NLCD 2011 keeps the same 16-class land cover classification scheme that has been applied consistently across the United States at a spatial resolution of 30 meters. NLCD 2011 is based primarily on a decision-tree classification of circa 2011 Landsat satellite data.<\/SPAN><\/P> The MRLC Consortium is a partnership of federal agencies (www.mrlc.gov), consisting of the U.S. Geological Survey (USGS), the National Oceanic and Atmospheric Administration (NOAA), the U.S. Environmental Protection Agency (EPA), the U.S. Department of Agriculture (USDA), the U.S. Forest Service (USFS), the National Park Service (NPS), the U.S. Fish and Wildlife Service (FWS), the Bureau of Land Management (BLM) and the USDA Natural Resources Conservation Service (NRCS). <\/SPAN><\/P> Preferred NLCD 2011 citation: Homer, C.G., Dewitz, J.A., Yang, L., Jin, S., Danielson, P., Xian, G., Coulston, J., Herold, N.D., Wickham, J.D., and Megown, K., 2015, Completion of the 2011 National Land Cover Database for the conterminous United States-Representing a decade of land cover change information. Photogrammetric Engineering and Remote Sensing, v. 81, no. 5, p. 345-354<\/SPAN><\/P> Data downloaded from: http://www.mrlc.gov/nlcd2011.php <\/SPAN><\/P><\/DIV><\/DIV><\/DIV>",
"name": "SingleLayers/NLCD_2011",
"description": " National Land Cover Database 2011 (NLCD 2011) is the most recent national land cover product created by the Multi-Resolution Land Characteristics (MRLC) Consortium. NLCD 2011 provides - for the first time - the capability to assess wall-to-wall, spatially explicit, national land cover changes and trends across the United States from 2001 to 2011. As with two previous NLCD land cover products NLCD 2011 keeps the same 16-class land cover classification scheme that has been applied consistently across the United States at a spatial resolution of 30 meters. NLCD 2011 is based primarily on a decision-tree classification of circa 2011 Landsat satellite data.<\/SPAN><\/P> The MRLC Consortium is a partnership of federal agencies (www.mrlc.gov), consisting of the U.S. Geological Survey (USGS), the National Oceanic and Atmospheric Administration (NOAA), the U.S. Environmental Protection Agency (EPA), the U.S. Department of Agriculture (USDA), the U.S. Forest Service (USFS), the National Park Service (NPS), the U.S. Fish and Wildlife Service (FWS), the Bureau of Land Management (BLM) and the USDA Natural Resources Conservation Service (NRCS). <\/SPAN><\/P> Preferred NLCD 2011 citation: Homer, C.G., Dewitz, J.A., Yang, L., Jin, S., Danielson, P., Xian, G., Coulston, J., Herold, N.D., Wickham, J.D., and Megown, K., 2015, Completion of the 2011 National Land Cover Database for the conterminous United States-Representing a decade of land cover change information. Photogrammetric Engineering and Remote Sensing, v. 81, no. 5, p. 345-354<\/SPAN><\/P> Data downloaded from: http://www.mrlc.gov/nlcd2011.php <\/SPAN><\/P><\/DIV><\/DIV><\/DIV>",
"extent": {
"xmin": -2030010,
"ymin": -2117010,
"xmax": 2513010,
"ymax": 732000,
"spatialReference": {"wkt": "PROJCS[\"Sphere_ARC_INFO_Lambert_Azimuthal_Equal_Area\",GEOGCS[\"GCS_Sphere_ARC_INFO\",DATUM[\"D_Sphere_ARC_INFO\",SPHEROID[\"Sphere_ARC_INFO\",6370997.0,0.0]],PRIMEM[\"Greenwich\",0.0],UNIT[\"Degree\",0.0174532925199433]],PROJECTION[\"Lambert_Azimuthal_Equal_Area\"],PARAMETER[\"false_easting\",0.0],PARAMETER[\"false_northing\",0.0],PARAMETER[\"central_meridian\",-100.0],PARAMETER[\"latitude_of_origin\",45.0],UNIT[\"Meter\",1.0]]"}
},
"initialExtent": {
"xmin": -2030010,
"ymin": -2117010,
"xmax": 2513010,
"ymax": 732000,
"spatialReference": {"wkt": "PROJCS[\"Sphere_ARC_INFO_Lambert_Azimuthal_Equal_Area\",GEOGCS[\"GCS_Sphere_ARC_INFO\",DATUM[\"D_Sphere_ARC_INFO\",SPHEROID[\"Sphere_ARC_INFO\",6370997.0,0.0]],PRIMEM[\"Greenwich\",0.0],UNIT[\"Degree\",0.0174532925199433]],PROJECTION[\"Lambert_Azimuthal_Equal_Area\"],PARAMETER[\"false_easting\",0.0],PARAMETER[\"false_northing\",0.0],PARAMETER[\"central_meridian\",-100.0],PARAMETER[\"latitude_of_origin\",45.0],UNIT[\"Meter\",1.0]]"}
},
"fullExtent": {
"xmin": -2030010,
"ymin": -2117010,
"xmax": 2513010,
"ymax": 732000,
"spatialReference": {"wkt": "PROJCS[\"Sphere_ARC_INFO_Lambert_Azimuthal_Equal_Area\",GEOGCS[\"GCS_Sphere_ARC_INFO\",DATUM[\"D_Sphere_ARC_INFO\",SPHEROID[\"Sphere_ARC_INFO\",6370997.0,0.0]],PRIMEM[\"Greenwich\",0.0],UNIT[\"Degree\",0.0174532925199433]],PROJECTION[\"Lambert_Azimuthal_Equal_Area\"],PARAMETER[\"false_easting\",0.0],PARAMETER[\"false_northing\",0.0],PARAMETER[\"central_meridian\",-100.0],PARAMETER[\"latitude_of_origin\",45.0],UNIT[\"Meter\",1.0]]"}
},
"hasMultidimensions": false,
"pixelSizeX": 30,
"pixelSizeY": 30,
"datasetFormat": "IMAGINE Image",
"uncompressedSize": 28762465356,
"blockWidth": 64,
"blockHeight": 64,
"compressionType": "None",
"bandNames": [
"Layer_1"
],
"allowCopy": true,
"allowAnalysis": true,
"bandCount": 1,
"noDataValue": 128,
"noDataValues": [
128
],
"pixelType": "S16",
"minPixelSize": 0,
"maxPixelSize": 0,
"copyrightText": "the Multi-Resolution Land Characteristics (MRLC) Consortium",
"serviceDataType": "esriImageServiceDataTypeThematic",
"serviceSourceType": "esriImageServiceSourceTypeDataset",
"minValues": [
0
],
"maxValues": [
95
],
"meanValues": [
58.413518788754
],
"stdvValues": [
20.290597543143
],
"objectIdField": "",
"fields": [],
"capabilities": "Image,Metadata,Mensuration",
"defaultMosaicMethod": "Center",
"allowedMosaicMethods": "",
"sortField": "",
"sortValue": null,
"sortAscending": true,
"mosaicOperator": "First",
"defaultCompressionQuality": 75,
"defaultResamplingMethod": "Bilinear",
"maxImageHeight": 4100,
"maxImageWidth": 15000,
"allowRasterFunction": true,
"rasterFunctionInfos": [
{
"name": "nlcd2011",
"description": "A raster function template.",
"help": ""
},
{
"name": "None",
"description": "",
"help": ""
}
],
"rasterTypeInfos": [
{
"name": "Raster Dataset",
"description": "Supports all ArcGIS Raster Datasets",
"help": ""
}
],
"mensurationCapabilities": "Basic",
"hasHistograms": true,
"hasColormap": true,
"hasRasterAttributeTable": true,
"minScale": 0,
"maxScale": 0,
"exportTilesAllowed": false,
"supportsStatistics": false,
"supportsAdvancedQueries": false,
"editFieldsInfo": null,
"ownershipBasedAccessControlForRasters": null,
"allowComputeTiePoints": false,
"useStandardizedQueries": true,
"advancedQueryCapabilities": {
"useStandardizedQueries": true,
"supportsStatistics": false,
"supportsOrderBy": false,
"supportsDistinct": false,
"supportsPagination": false
},
"spatialReference": {"wkt": "PROJCS[\"Sphere_ARC_INFO_Lambert_Azimuthal_Equal_Area\",GEOGCS[\"GCS_Sphere_ARC_INFO\",DATUM[\"D_Sphere_ARC_INFO\",SPHEROID[\"Sphere_ARC_INFO\",6370997.0,0.0]],PRIMEM[\"Greenwich\",0.0],UNIT[\"Degree\",0.0174532925199433]],PROJECTION[\"Lambert_Azimuthal_Equal_Area\"],PARAMETER[\"false_easting\",0.0],PARAMETER[\"false_northing\",0.0],PARAMETER[\"central_meridian\",-100.0],PARAMETER[\"latitude_of_origin\",45.0],UNIT[\"Meter\",1.0]]"}
}