{
 "currentVersion": 10.91,
 "serviceDescription": "Severe, widespread flooding in southeast Kansas in Summer 2007 resulted in a Federal Disaster Declaration in 20 counties. Largely unprecedented in scope and magnitude, this catastrophic event exposed various information gaps affecting flood emergency response activities. In particular, there was no capability for real-time estimation of wide area floodwater extent, information vital for improving situational awareness. With the support of the Kansas Adjutant General\u2019s Department, and using funding provided by the Kansas GIS Policy Board, the KBS FLDPLN (\u201cFloodplain\u201d) model was used to create a Segmented Library of Inundation Extents (SLIE) spanning 40 counties in eastern Kansas. The SLIE, which includes more than 330 stream segments, was developed during 2007-2009 using 10-m USGS NED elevation data. Using real-time and forecast river stage information from more than 130 USGS and NWS stream gages located in eastern Kansas, the SLIE allows for seamless, stage-varying estimation of floodwater extent during major riverine flood events. In addition to real-time emergency response applications, the SLIE database is also used for scenario modeling to facilitate flood disaster training exercises conducted by the Kansas Division of Emergency Management. The FLDPLN model was originally developed at KBS for river valley identification and \u201cdepth to flood\u201d mapping. In addition to its emergency response applications, the FLDPLN model is currently used by KBS scientists for wetland stratification, river valley morphology assessment, and lake extent mapping. Use Constraints: This database is not suited for flood insurance studies or other regulatory purposes. Interpretations derived from this use are intended for planning purposes only. For more information contact Jude Kastens, jkastens@ku.edu ",
 "name": "SingleLayers/EasternKs_DepthToFlood",
 "description": "Severe, widespread flooding in southeast Kansas in Summer 2007 resulted in a Federal Disaster Declaration in 20 counties. Largely unprecedented in scope and magnitude, this catastrophic event exposed various information gaps affecting flood emergency response activities. In particular, there was no capability for real-time estimation of wide area floodwater extent, information vital for improving situational awareness. With the support of the Kansas Adjutant General\u2019s Department, and using funding provided by the Kansas GIS Policy Board, the KBS FLDPLN (\u201cFloodplain\u201d) model was used to create a Segmented Library of Inundation Extents (SLIE) spanning 40 counties in eastern Kansas. The SLIE, which includes more than 330 stream segments, was developed during 2007-2009 using 10-m USGS NED elevation data. Using real-time and forecast river stage information from more than 130 USGS and NWS stream gages located in eastern Kansas, the SLIE allows for seamless, stage-varying estimation of floodwater extent during major riverine flood events. In addition to real-time emergency response applications, the SLIE database is also used for scenario modeling to facilitate flood disaster training exercises conducted by the Kansas Division of Emergency Management. The FLDPLN model was originally developed at KBS for river valley identification and \u201cdepth to flood\u201d mapping. In addition to its emergency response applications, the FLDPLN model is currently used by KBS scientists for wetland stratification, river valley morphology assessment, and lake extent mapping. Use Constraints: This database is not suited for flood insurance studies or other regulatory purposes. Interpretations derived from this use are intended for planning purposes only. For more information contact Jude Kastens, jkastens@ku.edu ",
 "extent": {
  "xmin": -97.4779622962963,
  "ymin": 36.90660166640791,
  "xmax": -94.5010178516137,
  "ymax": 40.14123129629631,
  "spatialReference": {
   "wkid": 4269,
   "latestWkid": 4269
  }
 },
 "initialExtent": {
  "xmin": -97.4779622962963,
  "ymin": 36.90660166640791,
  "xmax": -94.5010178516137,
  "ymax": 40.14123129629631,
  "spatialReference": {
   "wkid": 4269,
   "latestWkid": 4269
  }
 },
 "fullExtent": {
  "xmin": -97.4779622962963,
  "ymin": 36.90660166640791,
  "xmax": -94.5010178516137,
  "ymax": 40.14123129629631,
  "spatialReference": {
   "wkid": 4269,
   "latestWkid": 4269
  }
 },
 "hasMultidimensions": false,
 "pixelSizeX": 9.259259260000005E-5,
 "pixelSizeY": 9.259259260000007E-5,
 "datasetFormat": "GRID",
 "uncompressedSize": 4492652136,
 "blockWidth": 512,
 "blockHeight": 4,
 "compressionType": "RLE",
 "bandNames": [
  "dtf0"
 ],
 "allowCopy": true,
 "allowAnalysis": true,
 "bandCount": 1,
 "noDataValue": -3.4028234663852886E38,
 "noDataValues": [
  -3.4028234663852886E38
 ],
 "pixelType": "F32",
 "minPixelSize": 0,
 "maxPixelSize": 0,
 "copyrightText": "Jude Kastens / Kansas Applied Remote Sensing",
 "serviceDataType": "esriImageServiceDataTypeGeneric",
 "serviceSourceType": "esriImageServiceSourceTypeDataset",
 "minValues": [
  0.009999999776482582
 ],
 "maxValues": [
  15
 ],
 "meanValues": [
  7.436205333135846
 ],
 "stdvValues": [
  4.056345858020155
 ],
 "objectIdField": "",
 "fields": [],
 "capabilities": "Image,Metadata,Mensuration",
 "defaultMosaicMethod": "Center",
 "allowedMosaicMethods": "",
 "sortField": "",
 "sortValue": null,
 "sortAscending": true,
 "mosaicOperator": "First",
 "defaultCompressionQuality": 75,
 "defaultResamplingMethod": "Nearest",
 "maxImageHeight": 4100,
 "maxImageWidth": 15000,
 "allowRasterFunction": true,
 "rasterFunctionInfos": [
  {
   "name": "dtf0",
   "description": "A raster function template.",
   "help": ""
  },
  {
   "name": "None",
   "description": "",
   "help": ""
  }
 ],
 "rasterTypeInfos": [
  {
   "name": "Raster Dataset",
   "description": "Supports all ArcGIS Raster Datasets",
   "help": ""
  }
 ],
 "mensurationCapabilities": "Basic",
 "hasHistograms": false,
 "hasColormap": false,
 "hasRasterAttributeTable": false,
 "minScale": 0,
 "maxScale": 0,
 "exportTilesAllowed": false,
 "supportsStatistics": false,
 "supportsAdvancedQueries": false,
 "editFieldsInfo": null,
 "ownershipBasedAccessControlForRasters": null,
 "allowComputeTiePoints": false,
 "useStandardizedQueries": true,
 "advancedQueryCapabilities": {
  "useStandardizedQueries": true,
  "supportsStatistics": false,
  "supportsOrderBy": false,
  "supportsDistinct": false,
  "supportsPagination": false
 },
 "spatialReference": {
  "wkid": 4269,
  "latestWkid": 4269
 }
}
