{
 "currentVersion": 10.91,
 "serviceDescription": "KansasLiDAR/DouglasCountyShadedRelief",
 "name": "KansasLiDAR/DouglasCountyShadedRelief",
 "description": "",
 "extent": {
  "xmin": 2021488.0228749982,
  "ymin": 157300.59980153304,
  "xmax": 2152015.9770416515,
  "ymax": 281814.786468187,
  "spatialReference": {
   "wkt": "PROJCS[\"NAD_1983_StatePlane_Kansas_North_FIPS_1501\",GEOGCS[\"GCS_North_American_1983\",DATUM[\"D_North_American_1983\",SPHEROID[\"GRS_1980\",6378137.0,298.257222101]],PRIMEM[\"Greenwich\",0.0],UNIT[\"Degree\",0.0174532925199433]],PROJECTION[\"Lambert_Conformal_Conic\"],PARAMETER[\"false_easting\",1312333.333333334],PARAMETER[\"false_northing\",0.0],PARAMETER[\"central_meridian\",-98.0],PARAMETER[\"standard_parallel_1\",38.71666666666667],PARAMETER[\"standard_parallel_2\",39.78333333333333],PARAMETER[\"latitude_of_origin\",38.33333333333334],UNIT[\"Foot_US\",0.3048006096012192]]"
  }
 },
 "initialExtent": {
  "xmin": 2021488.0228749982,
  "ymin": 157300.59980153304,
  "xmax": 2152015.9770416515,
  "ymax": 281814.786468187,
  "spatialReference": {
   "wkt": "PROJCS[\"NAD_1983_StatePlane_Kansas_North_FIPS_1501\",GEOGCS[\"GCS_North_American_1983\",DATUM[\"D_North_American_1983\",SPHEROID[\"GRS_1980\",6378137.0,298.257222101]],PRIMEM[\"Greenwich\",0.0],UNIT[\"Degree\",0.0174532925199433]],PROJECTION[\"Lambert_Conformal_Conic\"],PARAMETER[\"false_easting\",1312333.333333334],PARAMETER[\"false_northing\",0.0],PARAMETER[\"central_meridian\",-98.0],PARAMETER[\"standard_parallel_1\",38.71666666666667],PARAMETER[\"standard_parallel_2\",39.78333333333333],PARAMETER[\"latitude_of_origin\",38.33333333333334],UNIT[\"Foot_US\",0.3048006096012192]]"
  }
 },
 "fullExtent": {
  "xmin": 2021488.0228749982,
  "ymin": 157300.59980153304,
  "xmax": 2152015.9770416515,
  "ymax": 281814.786468187,
  "spatialReference": {
   "wkt": "PROJCS[\"NAD_1983_StatePlane_Kansas_North_FIPS_1501\",GEOGCS[\"GCS_North_American_1983\",DATUM[\"D_North_American_1983\",SPHEROID[\"GRS_1980\",6378137.0,298.257222101]],PRIMEM[\"Greenwich\",0.0],UNIT[\"Degree\",0.0174532925199433]],PROJECTION[\"Lambert_Conformal_Conic\"],PARAMETER[\"false_easting\",1312333.333333334],PARAMETER[\"false_northing\",0.0],PARAMETER[\"central_meridian\",-98.0],PARAMETER[\"standard_parallel_1\",38.71666666666667],PARAMETER[\"standard_parallel_2\",39.78333333333333],PARAMETER[\"latitude_of_origin\",38.33333333333334],UNIT[\"Foot_US\",0.3048006096012192]]"
  }
 },
 "hasMultidimensions": false,
 "pixelSizeX": 3.280833333332998,
 "pixelSizeY": 3.2808333333329984,
 "datasetFormat": "TIFF",
 "uncompressedSize": 1509920320,
 "blockWidth": 128,
 "blockHeight": 128,
 "compressionType": "LZW",
 "bandNames": [
  "Band_1"
 ],
 "allowCopy": true,
 "allowAnalysis": true,
 "bandCount": 1,
 "noDataValue": 255,
 "noDataValues": [
  255
 ],
 "pixelType": "U8",
 "minPixelSize": 0,
 "maxPixelSize": 0,
 "copyrightText": "",
 "serviceDataType": "esriImageServiceDataTypeGeneric",
 "serviceSourceType": "esriImageServiceSourceTypeDataset",
 "minValues": [
  0
 ],
 "maxValues": [
  254
 ],
 "meanValues": [
  178.84822248183
 ],
 "stdvValues": [
  13.8516350194
 ],
 "objectIdField": "",
 "fields": [],
 "capabilities": "Image,Metadata,Mensuration",
 "defaultMosaicMethod": "Center",
 "allowedMosaicMethods": "",
 "sortField": "",
 "sortValue": null,
 "sortAscending": true,
 "mosaicOperator": "First",
 "defaultCompressionQuality": 75,
 "defaultResamplingMethod": "Nearest",
 "maxImageHeight": 4100,
 "maxImageWidth": 15000,
 "allowRasterFunction": true,
 "rasterFunctionInfos": [
  {
   "name": "None",
   "description": "",
   "help": ""
  }
 ],
 "rasterTypeInfos": [
  {
   "name": "Raster Dataset",
   "description": "Supports all ArcGIS Raster Datasets",
   "help": ""
  }
 ],
 "mensurationCapabilities": "Basic",
 "hasHistograms": true,
 "hasColormap": false,
 "hasRasterAttributeTable": true,
 "minScale": 0,
 "maxScale": 0,
 "exportTilesAllowed": false,
 "supportsStatistics": false,
 "supportsAdvancedQueries": false,
 "editFieldsInfo": null,
 "ownershipBasedAccessControlForRasters": null,
 "allowComputeTiePoints": false,
 "useStandardizedQueries": true,
 "advancedQueryCapabilities": {
  "useStandardizedQueries": true,
  "supportsStatistics": false,
  "supportsOrderBy": false,
  "supportsDistinct": false,
  "supportsPagination": false
 },
 "spatialReference": {
  "wkt": "PROJCS[\"NAD_1983_StatePlane_Kansas_North_FIPS_1501\",GEOGCS[\"GCS_North_American_1983\",DATUM[\"D_North_American_1983\",SPHEROID[\"GRS_1980\",6378137.0,298.257222101]],PRIMEM[\"Greenwich\",0.0],UNIT[\"Degree\",0.0174532925199433]],PROJECTION[\"Lambert_Conformal_Conic\"],PARAMETER[\"false_easting\",1312333.333333334],PARAMETER[\"false_northing\",0.0],PARAMETER[\"central_meridian\",-98.0],PARAMETER[\"standard_parallel_1\",38.71666666666667],PARAMETER[\"standard_parallel_2\",39.78333333333333],PARAMETER[\"latitude_of_origin\",38.33333333333334],UNIT[\"Foot_US\",0.3048006096012192]]"
 }
}
