<?xml version="1.0" encoding="UTF-8" standalone="no"?>
<metadata xml:lang="en">
<Esri>
<CreaDate>20170719</CreaDate>
<CreaTime>10204000</CreaTime>
<ArcGISFormat>1.0</ArcGISFormat>
<SyncOnce>FALSE</SyncOnce>
<DataProperties>
<itemProps>
<itemName Sync="TRUE">KS_irrigation_focus2007_applicable2003_2012.img</itemName>
<imsContentType Sync="TRUE">002</imsContentType>
<nativeExtBox>
<westBL Sync="TRUE">-532485.000000</westBL>
<eastBL Sync="TRUE">121995.000000</eastBL>
<southBL Sync="TRUE">1550535.000000</southBL>
<northBL Sync="TRUE">1903725.000000</northBL>
<exTypeCode Sync="TRUE">1</exTypeCode>
</nativeExtBox>
</itemProps>
<coordRef>
<type Sync="TRUE">Projected</type>
<geogcsn Sync="TRUE">GCS_North_American_1983</geogcsn>
<csUnits Sync="TRUE">Linear Unit: Meter (1.000000)</csUnits>
<projcsn Sync="TRUE">USA_Contiguous_Albers_Equal_Area_Conic_USGS_version</projcsn>
<peXml Sync="TRUE">&lt;ProjectedCoordinateSystem xsi:type='typens:ProjectedCoordinateSystem' xmlns:xsi='http://www.w3.org/2001/XMLSchema-instance' xmlns:xs='http://www.w3.org/2001/XMLSchema' xmlns:typens='http://www.esri.com/schemas/ArcGIS/10.4'&gt;&lt;WKT&gt;PROJCS[&amp;quot;USA_Contiguous_Albers_Equal_Area_Conic_USGS_version&amp;quot;,GEOGCS[&amp;quot;GCS_North_American_1983&amp;quot;,DATUM[&amp;quot;D_North_American_1983&amp;quot;,SPHEROID[&amp;quot;GRS_1980&amp;quot;,6378137.0,298.257222101]],PRIMEM[&amp;quot;Greenwich&amp;quot;,0.0],UNIT[&amp;quot;Degree&amp;quot;,0.0174532925199433]],PROJECTION[&amp;quot;Albers&amp;quot;],PARAMETER[&amp;quot;False_Easting&amp;quot;,0.0],PARAMETER[&amp;quot;False_Northing&amp;quot;,0.0],PARAMETER[&amp;quot;Central_Meridian&amp;quot;,-96.0],PARAMETER[&amp;quot;Standard_Parallel_1&amp;quot;,29.5],PARAMETER[&amp;quot;Standard_Parallel_2&amp;quot;,45.5],PARAMETER[&amp;quot;Latitude_Of_Origin&amp;quot;,23.0],UNIT[&amp;quot;Meter&amp;quot;,1.0],AUTHORITY[&amp;quot;Esri&amp;quot;,102039]]&lt;/WKT&gt;&lt;XOrigin&gt;-16901100&lt;/XOrigin&gt;&lt;YOrigin&gt;-6972200&lt;/YOrigin&gt;&lt;XYScale&gt;266467840.99085236&lt;/XYScale&gt;&lt;ZOrigin&gt;-100000&lt;/ZOrigin&gt;&lt;ZScale&gt;10000&lt;/ZScale&gt;&lt;MOrigin&gt;-100000&lt;/MOrigin&gt;&lt;MScale&gt;10000&lt;/MScale&gt;&lt;XYTolerance&gt;0.001&lt;/XYTolerance&gt;&lt;ZTolerance&gt;0.001&lt;/ZTolerance&gt;&lt;MTolerance&gt;0.001&lt;/MTolerance&gt;&lt;HighPrecision&gt;true&lt;/HighPrecision&gt;&lt;WKID&gt;102039&lt;/WKID&gt;&lt;LatestWKID&gt;102039&lt;/LatestWKID&gt;&lt;/ProjectedCoordinateSystem&gt;</peXml>
</coordRef>
<RasterProperties>
<General>
<PixelDepth Sync="TRUE">8</PixelDepth>
<HasColormap Sync="TRUE">FALSE</HasColormap>
<CompressionType Sync="TRUE">RLE</CompressionType>
<NumBands Sync="TRUE">1</NumBands>
<Format Sync="TRUE">IMAGINE Image</Format>
<HasPyramids Sync="TRUE">TRUE</HasPyramids>
<SourceType Sync="TRUE">continuous</SourceType>
<PixelType Sync="TRUE">unsigned integer</PixelType>
<NoDataValue Sync="TRUE">255</NoDataValue>
</General>
</RasterProperties>
</DataProperties>
<SyncDate>20170720</SyncDate>
<SyncTime>15090300</SyncTime>
<ModDate>20170720</ModDate>
<ModTime>15090300</ModTime>
<scaleRange>
<minScale>625000</minScale>
<maxScale>5000</maxScale>
</scaleRange>
<ArcGISProfile>ItemDescription</ArcGISProfile>
</Esri>
<dataIdInfo>
<envirDesc Sync="FALSE">Esri ArcGIS 10.4.1.5686</envirDesc>
<dataLang>
<languageCode Sync="TRUE" value="eng">
</languageCode>
<countryCode Sync="TRUE" value="USA">
</countryCode>
</dataLang>
<idCitation>
<resTitle Sync="FALSE">Kansas Irrigation Mask Circa 2007</resTitle>
<presForm>
<PresFormCd Sync="TRUE" value="005">
</PresFormCd>
</presForm>
</idCitation>
<spatRpType>
<SpatRepTypCd Sync="TRUE" value="002">
</SpatRepTypCd>
</spatRpType>
<dataExt>
<geoEle>
<GeoBndBox esriExtentType="search">
<exTypeCode Sync="TRUE">1</exTypeCode>
<westBL Sync="TRUE">-102.296368</westBL>
<eastBL Sync="TRUE">-94.555467</eastBL>
<northBL Sync="TRUE">40.149474</northBL>
<southBL Sync="TRUE">36.847160</southBL>
</GeoBndBox>
</geoEle>
</dataExt>
<idPurp>This map depicts estimated locations of irrigated cropland in Kansas, applicable for 2003-2012 (when used in conjunction with annual land use/land cover data)...</idPurp>
<idAbs>&lt;DIV STYLE="text-align:Left;"&gt;&lt;DIV&gt;&lt;DIV&gt;&lt;P&gt;&lt;SPAN&gt;Distinguishing irrigated from non-irrigated locations constitutes a Level IV refinement of Level III crop type land use/land cover (LULC) mapping. While seasonal maximum NDVI from general cropland has been found to have some utility for identifying irrigated locations, the diverse agricultural landscape and pronounced climatic gradients across Kansas undermine the general effectiveness of approaches based solely on this information. Consequently, we developed an alternative procedure for creating a binary irrigated lands map for Kansas that is generally applicable to the 2003-2012 time period and which utilizes multiple datasets and methods facilitative of this task. Five crop types (alfalfa, corn, sorghum, soybeans, and winter wheat) dominate the Kansas agricultural landscape, and these crop types were considered for this exercise. The mapping effort is summarized in the following steps.&lt;/SPAN&gt;&lt;/P&gt;&lt;P&gt;&lt;SPAN&gt;(1) “Place of Use” (POU) spatial information provided by the Division of Water Resources – Kansas Department of Agriculture, which indicates where high-volume irrigation is permissible in Kansas, was used to restrict the mapping exercise to locations contained therein. All irrigated locations in the final dataset fall within POU boundaries.&lt;/SPAN&gt;&lt;/P&gt;&lt;P&gt;&lt;SPAN&gt;(2) Based on agricultural management tendencies, climate gradients, and irrigation use extensiveness, we split the state into two regions, west-central (WC) and east (E), following Agricultural Statistics District (ASD) boundaries. Region-specific boosted decision tree models developed using MODIS NDVI time series were used to provide initial annual estimates for irrigated locations. Models were trained using ground reference data consisting of USDA Farm Service Agency (FSA) annual cropping records from 2003-2007 that were spatially linkable to FSA Common Land Unit (CLU) polygons (c.2007). Models for 2003-2005 were constructed to simultaneously map both crop type and irrigation status, whereas models for 2006-2012 were constructed to map crop-specific irrigation status. For the latter period, USDA National Agricultural Statistics Service (NASS) Cropland Data Layer (CDL) spatial information was used to map individual crop types prior to irrigation status model development. Classified raster data were generalized to field boundaries. Field boundaries were created by combining multi-year CLU data and manual delineations using heads-up digitizing and NAIP imagery. We refer to the final field boundary dataset as the “sub-CLU” data.&lt;/SPAN&gt;&lt;/P&gt;&lt;P&gt;&lt;SPAN&gt;(3) Initializing the irrigated locations map using model output from 2007, LULC trajectories were examined for 2007 non-irrigated cropland locations within the POU. A rule set was developed based on mapped irrigation frequency during 2003-2012 that was used to “flip” irrigation status from non-irrigated to irrigated for fields in the 2007 layer that met particular criteria.&lt;/SPAN&gt;&lt;/P&gt;&lt;P&gt;&lt;SPAN&gt;(4) Statewide irrigated area, by crop, was computed for the 2007 map and compared to USDA NASS irrigated cropland area estimates from 2007. Mapped irrigated area for alfalfa and corn were found to exceed the USDA numbers (by 14% and 3%, respectively), so no further irrigation status changes were applied to locations mapped to those crop types in 2007. It was determined that 2007 total mapped soybean area within the POU fell 15% short of the 2007 USDA estimate for irrigated soybean area in Kansas, so all soybeans within the POU were assigned a status of irrigated, and no further irrigation status changes were applied to fields mapped to this crop in 2007. Mapped irrigated area for 2007 sorghum and winter wheat were found to fall short of 2007 USDA irrigated area estimates (by 44% and 26%, respectively), and non-irrigated areas for these crops were sufficiently prevalent within the POU to consider further irrigation status changes.&lt;/SPAN&gt;&lt;/P&gt;&lt;P&gt;&lt;SPAN&gt;(5) Non-irrigated 2007 sorghum and winter wheat parcels were ranked according to 10 size classes reflective of common field sizes for center pivot irrigation. The same fields were then ranked according to 2007 maximum MODIS NDVI, and then again by mapped irrigation frequency during 2003-2012. A crop-specific weighted sum of these three rankings was calculated to provide each parcel with a score reasoned to reflect its likelihood of being irrigated. For each crop, county-level NASS irrigated area estimates from 2007 were compared with respective county specific, mapped irrigated area totals from 2007. For each county whereby the mapped irrigated area exceeded the NASS irrigated area, no action was taken. For each county whereby the mapped total area within the POU fell short of the NASS irrigated area, all relevant parcels within the POU were assigned a status of irrigated. For the final case, whereby mapped irrigated area fell short of NASS irrigated area but total mapped area within the POU exceeded NASS irrigated area, one by one, the highest ranked parcels were reassigned to irrigated status until NASS totals were met or exceeded. The irrigated location map obtained at the end of this step is the final map (irrigated = 1, non-irrigated = 0).&lt;/SPAN&gt;&lt;/P&gt;&lt;/DIV&gt;&lt;/DIV&gt;&lt;/DIV&gt;</idAbs>
<idCredit>This dataset was developed by the Kansas Applied Remote Sensing Program (KARS) of the Kansas Biological Survey (KBS) located at the University of Kansas. This work was supported by the National Science Foundation, under Award No. EPS-0903806, and by matching support from the State of Kansas through the Kansas Board of Regents. Citation: Kansas Applied Remote Sensing Program. 2014. Kansas Irrigation Mask ca. 2007. Available at http://kars.ku.edu/geonetwork/srv/en/main.home (accessed {DATE}</idCredit>
<searchKeys>
<keyword>Agriculture</keyword>
<keyword>Alfalfa</keyword>
<keyword>Common Land Unit (CLU)</keyword>
<keyword>Corn</keyword>
<keyword>Cropland Data Layer (CDL)</keyword>
<keyword>Double Crop</keyword>
<keyword>Farm Service Agency (FSA)</keyword>
<keyword>High Plains Aquifer</keyword>
<keyword>Irrigation</keyword>
<keyword>Kansas</keyword>
<keyword>Land Use/Land Cover (LULC)</keyword>
<keyword>Landsat</keyword>
<keyword>MODIS</keyword>
<keyword>National Agricultural Statistics Service (NASS)</keyword>
<keyword>Place of Use</keyword>
<keyword>Sorghum</keyword>
<keyword>Soybeans</keyword>
<keyword>USDA</keyword>
<keyword>Winter Wheat</keyword>
</searchKeys>
<resConst>
<Consts>
<useLimit>&lt;DIV STYLE="text-align:Left;"&gt;&lt;DIV&gt;&lt;DIV&gt;&lt;P&gt;&lt;SPAN&gt;The Kansas Biological Survey (KBS) and its representatives make no warranty or representation, either expressed or implied, with respect to the digital data and their documentation, their quality, performance, merchantability, or fitness for a particular purpose. The digital data are distributed on "as is" basis, and the user assumes all risk as to their quality, the results obtained from their use, and the performance of the data. In no event will the KBS or its representatives be liable for any direct, indirect, special, incidental or consequential damages resulting from and defect in the KBS's digital data or in their documentation. This disclaimer of warranty is exclusive and in lieu of all others, oral or written, expressed or implied. No agent or employee is authorized to make any modification, extension, or addition to this warranty&lt;/SPAN&gt;&lt;/P&gt;&lt;/DIV&gt;&lt;/DIV&gt;&lt;/DIV&gt;</useLimit>
</Consts>
</resConst>
</dataIdInfo>
<mdLang>
<languageCode Sync="TRUE" value="eng">
</languageCode>
<countryCode Sync="TRUE" value="USA">
</countryCode>
</mdLang>
<mdChar>
<CharSetCd Sync="TRUE" value="004">
</CharSetCd>
</mdChar>
<distInfo>
<distFormat>
<formatName Sync="TRUE">Raster Dataset</formatName>
</distFormat>
</distInfo>
<mdHrLv>
<ScopeCd Sync="TRUE" value="005">
</ScopeCd>
</mdHrLv>
<mdHrLvName Sync="TRUE">dataset</mdHrLvName>
<refSysInfo>
<RefSystem>
<refSysID>
<identCode Sync="TRUE" code="102039">
</identCode>
<idCodeSpace Sync="TRUE">Esri</idCodeSpace>
<idVersion Sync="TRUE">8.1.2</idVersion>
</refSysID>
</RefSystem>
</refSysInfo>
<spatRepInfo>
<Georect>
<cellGeo>
<CellGeoCd Sync="TRUE" value="002">
</CellGeoCd>
</cellGeo>
<numDims Sync="TRUE">2</numDims>
<tranParaAv Sync="TRUE">1</tranParaAv>
<chkPtAv Sync="TRUE">0</chkPtAv>
<cornerPts>
<pos Sync="TRUE">-532485.000000 1550535.000000</pos>
</cornerPts>
<cornerPts>
<pos Sync="TRUE">-532485.000000 1903725.000000</pos>
</cornerPts>
<cornerPts>
<pos Sync="TRUE">121995.000000 1903725.000000</pos>
</cornerPts>
<cornerPts>
<pos Sync="TRUE">121995.000000 1550535.000000</pos>
</cornerPts>
<centerPt>
<pos Sync="TRUE">-205245.000000 1727130.000000</pos>
</centerPt>
<axisDimension type="002">
<dimSize Sync="TRUE">21816</dimSize>
<dimResol>
<value Sync="TRUE" uom="m">30.000000</value>
</dimResol>
</axisDimension>
<axisDimension type="001">
<dimSize Sync="TRUE">11773</dimSize>
<dimResol>
<value Sync="TRUE" uom="m">30.000000</value>
</dimResol>
</axisDimension>
<ptInPixel>
<PixOrientCd Sync="TRUE" value="001">
</PixOrientCd>
</ptInPixel>
</Georect>
</spatRepInfo>
<eainfo>
<detailed Name="KS_irrigation_focus2007_applicable2003_2012.img.vat">
<enttyp>
<enttypl Sync="TRUE">KS_irrigation_focus2007_applicable2003_2012.img.vat</enttypl>
<enttypt Sync="TRUE">Table</enttypt>
<enttypc Sync="TRUE">2</enttypc>
</enttyp>
<attr>
<attrlabl Sync="TRUE">OID</attrlabl>
<attalias Sync="TRUE">OID</attalias>
<attrtype Sync="TRUE">OID</attrtype>
<attwidth Sync="TRUE">4</attwidth>
<atprecis Sync="TRUE">0</atprecis>
<attscale Sync="TRUE">0</attscale>
<attrdef Sync="TRUE">Internal feature number.</attrdef>
<attrdefs Sync="TRUE">Esri</attrdefs>
<attrdomv>
<udom Sync="TRUE">Sequential unique whole numbers that are automatically generated.</udom>
</attrdomv>
</attr>
<attr>
<attrlabl Sync="TRUE">Value</attrlabl>
<attalias Sync="TRUE">Value</attalias>
<attrtype Sync="TRUE">Integer</attrtype>
<attwidth Sync="TRUE">10</attwidth>
<atprecis Sync="TRUE">10</atprecis>
<attscale Sync="TRUE">0</attscale>
</attr>
<attr>
<attrlabl Sync="TRUE">Count</attrlabl>
<attalias Sync="TRUE">Count</attalias>
<attrtype Sync="TRUE">Double</attrtype>
<attwidth Sync="TRUE">19</attwidth>
<atprecis Sync="TRUE">0</atprecis>
<attscale Sync="TRUE">0</attscale>
</attr>
</detailed>
</eainfo>
<contInfo>
<ImgDesc>
<contentTyp>
<ContentTypCd Sync="TRUE" value="001">
</ContentTypCd>
</contentTyp>
<covDim>
<Band>
<dimDescrp Sync="TRUE">Layer_1</dimDescrp>
<maxVal Sync="TRUE">1.000000</maxVal>
<minVal Sync="TRUE">0.000000</minVal>
<bitsPerVal Sync="TRUE">8</bitsPerVal>
<valUnit>
<UOM type="length">
</UOM>
</valUnit>
</Band>
</covDim>
</ImgDesc>
</contInfo>
<mdDateSt Sync="TRUE">20170720</mdDateSt>
</metadata>
