{
 "currentVersion": 10.91,
 "serviceDescription": "The Kansas Applied Remote Sensing Program (KARS) uses satellite data to produce a weekly map series called the GreenReportĀ®, which illustrates current and relative vegetation conditions and trends for the conterminous U.S. Since 2002, KARS has also used these satellite data to forecast district, state, and national level crop yields for eight major crops in the U.S. \n",
 "name": "GreenReport/GreennessDifferenceFromAverage",
 "description": "The Kansas Applied Remote Sensing Program (KARS) uses satellite data to produce a weekly map series called the GreenReportĀ®, which illustrates current and relative vegetation conditions and trends for the conterminous U.S. Since 2002, KARS has also used these satellite data to forecast district, state, and national level crop yields for eight major crops in the U.S. \n",
 "extent": {
  "xmin": -2030000.420321646,
  "ymin": -2116999.9999999963,
  "xmax": 2512906.432301414,
  "ymax": 732000.000000004,
  "spatialReference": {
   "wkt": "PROJCS[\"Sphere_ARC_INFO_Lambert_Azimuthal_Equal_Area\",GEOGCS[\"GCS_Sphere_ARC_INFO\",DATUM[\"D_Sphere_ARC_INFO\",SPHEROID[\"Sphere_ARC_INFO\",6370997.0,0.0]],PRIMEM[\"Greenwich\",0.0],UNIT[\"Degree\",0.0174532925199433]],PROJECTION[\"Lambert_Azimuthal_Equal_Area\"],PARAMETER[\"false_easting\",0.0],PARAMETER[\"false_northing\",0.0],PARAMETER[\"central_meridian\",-100.0],PARAMETER[\"latitude_of_origin\",45.0],UNIT[\"Meter\",1.0]]"
  }
 },
 "initialExtent": {
  "xmin": -2030000.420321646,
  "ymin": -2116999.9999999963,
  "xmax": 2512906.432301414,
  "ymax": 732000.000000004,
  "spatialReference": {
   "wkt": "PROJCS[\"Sphere_ARC_INFO_Lambert_Azimuthal_Equal_Area\",GEOGCS[\"GCS_Sphere_ARC_INFO\",DATUM[\"D_Sphere_ARC_INFO\",SPHEROID[\"Sphere_ARC_INFO\",6370997.0,0.0]],PRIMEM[\"Greenwich\",0.0],UNIT[\"Degree\",0.0174532925199433]],PROJECTION[\"Lambert_Azimuthal_Equal_Area\"],PARAMETER[\"false_easting\",0.0],PARAMETER[\"false_northing\",0.0],PARAMETER[\"central_meridian\",-100.0],PARAMETER[\"latitude_of_origin\",45.0],UNIT[\"Meter\",1.0]]"
  }
 },
 "fullExtent": {
  "xmin": -2030000.420321646,
  "ymin": -2116999.9999999963,
  "xmax": 2512906.432301414,
  "ymax": 732000.000000004,
  "spatialReference": {
   "wkt": "PROJCS[\"Sphere_ARC_INFO_Lambert_Azimuthal_Equal_Area\",GEOGCS[\"GCS_Sphere_ARC_INFO\",DATUM[\"D_Sphere_ARC_INFO\",SPHEROID[\"Sphere_ARC_INFO\",6370997.0,0.0]],PRIMEM[\"Greenwich\",0.0],UNIT[\"Degree\",0.0174532925199433]],PROJECTION[\"Lambert_Azimuthal_Equal_Area\"],PARAMETER[\"false_easting\",0.0],PARAMETER[\"false_northing\",0.0],PARAMETER[\"central_meridian\",-100.0],PARAMETER[\"latitude_of_origin\",45.0],UNIT[\"Meter\",1.0]]"
  }
 },
 "hasMultidimensions": false,
 "pixelSizeX": 999.979496505186,
 "pixelSizeY": 1000,
 "datasetFormat": "TIFF",
 "uncompressedSize": 12943007,
 "blockWidth": 512,
 "blockHeight": 512,
 "compressionType": "LZW",
 "bandNames": [
  "Layer_1"
 ],
 "allowCopy": true,
 "allowAnalysis": true,
 "bandCount": 1,
 "pixelType": "U8",
 "minPixelSize": 0,
 "maxPixelSize": 0,
 "copyrightText": "Jude Kastens and John Lomas",
 "serviceDataType": "esriImageServiceDataTypeThematic",
 "serviceSourceType": "esriImageServiceSourceTypeDataset",
 "minValues": [],
 "maxValues": [],
 "meanValues": [],
 "stdvValues": [],
 "objectIdField": "",
 "fields": [],
 "capabilities": "Mensuration,Image,Metadata",
 "defaultMosaicMethod": "Center",
 "allowedMosaicMethods": "",
 "sortField": "",
 "sortValue": null,
 "sortAscending": true,
 "mosaicOperator": "First",
 "defaultCompressionQuality": 75,
 "defaultResamplingMethod": "Nearest",
 "maxImageHeight": 4100,
 "maxImageWidth": 15000,
 "allowRasterFunction": true,
 "rasterFunctionInfos": [
  {
   "name": "clip_greendm3_1x1",
   "description": "A raster function template.",
   "help": ""
  },
  {
   "name": "None",
   "description": "",
   "help": ""
  }
 ],
 "rasterTypeInfos": [
  {
   "name": "Raster Dataset",
   "description": "Supports all ArcGIS Raster Datasets",
   "help": ""
  }
 ],
 "mensurationCapabilities": "Basic",
 "hasHistograms": false,
 "hasColormap": true,
 "hasRasterAttributeTable": true,
 "minScale": 0,
 "maxScale": 0,
 "exportTilesAllowed": false,
 "supportsStatistics": false,
 "supportsAdvancedQueries": false,
 "editFieldsInfo": null,
 "ownershipBasedAccessControlForRasters": null,
 "allowComputeTiePoints": false,
 "useStandardizedQueries": true,
 "advancedQueryCapabilities": {
  "useStandardizedQueries": true,
  "supportsStatistics": false,
  "supportsOrderBy": false,
  "supportsDistinct": false,
  "supportsPagination": false
 },
 "spatialReference": {
  "wkt": "PROJCS[\"Sphere_ARC_INFO_Lambert_Azimuthal_Equal_Area\",GEOGCS[\"GCS_Sphere_ARC_INFO\",DATUM[\"D_Sphere_ARC_INFO\",SPHEROID[\"Sphere_ARC_INFO\",6370997.0,0.0]],PRIMEM[\"Greenwich\",0.0],UNIT[\"Degree\",0.0174532925199433]],PROJECTION[\"Lambert_Azimuthal_Equal_Area\"],PARAMETER[\"false_easting\",0.0],PARAMETER[\"false_northing\",0.0],PARAMETER[\"central_meridian\",-100.0],PARAMETER[\"latitude_of_origin\",45.0],UNIT[\"Meter\",1.0]]"
 }
}
